BEGIN:VCALENDAR
VERSION:2.0
PRODID:-//wp-events-plugin.com//6.6.3//EN
TZID:Europe/Rome
X-WR-TIMEZONE:Europe/Rome
BEGIN:VEVENT
UID:99@municipiozero.it
DTSTART;TZID=Europe/Rome;VALUE=DATE:20240511
DTEND;TZID=Europe/Rome;VALUE=DATE:20240512
DTSTAMP:20240324T130503Z
URL:https://municipiozero.it/events/laboratorio-bologna/
SUMMARY:LABORATORIO BOLOGNA
DESCRIPTION:+++ save the date +++\n\n11 maggio prima iniziativa del Laborat
 orio Bologna
ATTACH;FMTTYPE=image/jpeg:https://municipiozero.it/wp-content/uploads/2024
 /03/photo_6044297748016120726_x.jpg
CATEGORIES:Action
END:VEVENT
BEGIN:VTIMEZONE
TZID:Europe/Rome
X-LIC-LOCATION:Europe/Rome
BEGIN:DAYLIGHT
DTSTART:20240331T030000
TZOFFSETFROM:+0100
TZOFFSETTO:+0200
TZNAME:CEST
END:DAYLIGHT
END:VTIMEZONE
END:VCALENDAR