BEGIN:VCALENDAR
VERSION:2.0
PRODID:-//wp-events-plugin.com//6.6.3//EN
TZID:Europe/Rome
X-WR-TIMEZONE:Europe/Rome
BEGIN:VEVENT
UID:348@municipiozero.it
DTSTART;TZID=Europe/Rome:20251202T180000
DTEND;TZID=Europe/Rome:20251202T200000
DTSTAMP:20251130T110516Z
URL:https://municipiozero.it/events/luniversita-va-in-guerra-dagli-accordi
 -con-lindustria-militare-al-controllo-delle-frontiere/
SUMMARY:L'Università va in guerra: dagli accordi con l'industria militare 
 al controllo delle frontiere
DESCRIPTION:Martedì 2 dicembre alle 18 a Spazio di Agitazione\, Palazzo He
 rcolani.\n\nPartendo dall’indagine di Luca Rondi su Altreconomia con un 
 focus specifico sugli accordi tra l’industria militare e l’Università
  di Bologna\, l’evento indagherà come la logica della militarizzazione 
 attraversi non solo la ricerca scientifica ma anche le politiche migratori
 e europee\, mostrando un sistema che si riorienta e che si sviluppa seguen
 do logiche sempre più securitarie.
ATTACH;FMTTYPE=image/jpeg:https://municipiozero.it/wp-content/uploads/2025
 /11/uni-222.png
CATEGORIES:Action
LOCATION:https://www.bing.com/maps/search?FORM=HDRSC6&q=palazzo+hercolani&c
 p=44.491249%7E11.354060&lvl=16&style=r
END:VEVENT
BEGIN:VTIMEZONE
TZID:Europe/Rome
X-LIC-LOCATION:Europe/Rome
BEGIN:STANDARD
DTSTART:20251026T020000
TZOFFSETFROM:+0200
TZOFFSETTO:+0100
TZNAME:CET
END:STANDARD
END:VTIMEZONE
END:VCALENDAR