BEGIN:VCALENDAR
VERSION:2.0
PRODID:-//wp-events-plugin.com//6.6.3//EN
TZID:Europe/Rome
X-WR-TIMEZONE:Europe/Rome
BEGIN:VEVENT
UID:253@municipiozero.it
DTSTART;TZID=Europe/Rome:20250222T150000
DTEND;TZID=Europe/Rome:20250222T180000
DTSTAMP:20250206T152415Z
URL:https://municipiozero.it/events/manifestazione-regionale-contro-il-ddl
 -sicurezza/
SUMMARY:Manifestazione regionale contro il DdL Sicurezza
DESCRIPTION:La rete regionale A Pieno Regime - Emilia Romagna invita a una 
 grande manifestazione regionale\, sabato 22 febbraio ore 15 in Piazza XX S
 ettembre\, Bologna.
ATTACH;FMTTYPE=image/jpeg:https://municipiozero.it/wp-content/uploads/2025
 /02/photo_2025-02-06_16-23-14.jpg
CATEGORIES:Action
LOCATION:https://www.bing.com/maps?osid=9b58a4db-e3ea-47e4-b744-3fa9810fdd2
 1&cp=44.504497~11.340798&lvl=16.01&pi=0&v=2&sV=2&form=S00027
END:VEVENT
BEGIN:VTIMEZONE
TZID:Europe/Rome
X-LIC-LOCATION:Europe/Rome
BEGIN:STANDARD
DTSTART:20241027T020000
TZOFFSETFROM:+0200
TZOFFSETTO:+0100
TZNAME:CET
END:STANDARD
END:VTIMEZONE
END:VCALENDAR