BEGIN:VCALENDAR
VERSION:2.0
PRODID:-//wp-events-plugin.com//6.6.3//EN
TZID:Europe/Rome
X-WR-TIMEZONE:Europe/Rome
BEGIN:VEVENT
UID:337@municipiozero.it
DTSTART;TZID=Europe/Rome;VALUE=DATE:20251114
DTEND;TZID=Europe/Rome;VALUE=DATE:20251115
DTSTAMP:20251106T090406Z
URL:https://municipiozero.it/events/mobilitazione-universitaria/
SUMMARY:Mobilitazione universitaria
DESCRIPTION:Venerdì 14 novembre\, dalle 9 blocchi e agitazione nei diparti
 menti\, alle 10 Corteo! con concentramento in Piazza Verdi.
ATTACH;FMTTYPE=image/jpeg:https://municipiozero.it/wp-content/uploads/2025
 /11/14.jpg
CATEGORIES:Action
LOCATION:https://www.bing.com/maps/search?FORM=HDRSC6&q=bologna&cp=44.48870
 8%7E11.331673&lvl=11.7&style=r
END:VEVENT
BEGIN:VTIMEZONE
TZID:Europe/Rome
X-LIC-LOCATION:Europe/Rome
BEGIN:STANDARD
DTSTART:20251026T020000
TZOFFSETFROM:+0200
TZOFFSETTO:+0100
TZNAME:CET
END:STANDARD
END:VTIMEZONE
END:VCALENDAR