BEGIN:VCALENDAR
VERSION:2.0
PRODID:-//wp-events-plugin.com//6.6.3//EN
TZID:Europe/Rome
X-WR-TIMEZONE:Europe/Rome
BEGIN:VEVENT
UID:265@municipiozero.it
DTSTART;TZID=Europe/Rome:20250315T223000
DTEND;TZID=Europe/Rome:20250315T233000
DTSTAMP:20250303T105645Z
URL:https://municipiozero.it/events/parente-diggei-20-anni-sulla-dancefloo
 r-delle-lotte/
SUMMARY:PARENTE DIGGEI: 20 ANNI  SULLA DANCEFLOOR DELLE LOTTE
DESCRIPTION:Napoli\, anno imprecisato\n\nIn un laboratorio segreto sotto il
  Vesuvio\, un gruppo di scienziati ribelli stava lavorando a un esperiment
 o proibito: creare il DJ definitivo\, capace di accendere le piazze\, far 
 ballare i cortei e far saltare i cordoni delle forze dell’ordine.\nMa qu
 alcosa andò storto.\n\nUn’esplosione di casse\, luci stroboscopiche e c
 oriandoli sintetici segnò la nascita di Parente Diggei\, dotato di superp
 oteri sonori e destinato a diffondere il caos danzante sulla Terra.\nBolog
 na\, 2005. Atterrato a sotto le Due Torri\, ha affinato le sue tecniche se
 grete al Barricada\, dentro il TPO di Viale Lenin\, creando una dancefloor
  dove la trash incontrava la rivoluzione.\n\nNegli anni ha portato la sua 
 musica ovunque ci fosse bisogno di alzare il volume contro le oppressioni:
  cortei antifascisti\, manifestazioni per i migranti\, lotte dei precari\,
  occupazioni di case e centri sociali\, controvertici mondiali e Primi Mag
 gi infiniti.\n\nCon un solo gesto della mano poteva sincronizzare la folla
  in un pogo collettivo\, trasformare strade in piste da ballo e smagnetizz
 are i manganelli della polizia con una scarica elettro-sonica di “Rhythm
  is a Dancer”.\nChi c’era sa. Ricorda il ritmo di “We Will Rock You
 ” battere durante i cortei\, Le onde sonore di “Figli delle stelle” 
 o “Amore Disperato”\, cantate a squarciagola con intenti eversivi.\nE 
 quando la tensione saliva\, bastava un “Che confusione\, sarà perché l
 ottiamo” per trasformare l’intero blocco in un delirio collettivo.\n\n
 Con la sola imposizione delle mani\, Parente Diggei poteva trasformare un
 ’assemblea moscia in un’orgia di sintetizzatori da “Vamos a la Playa
 ”\, mentre con la leggendaria “Un’estate al mare” scacciava gli ab
 iocchi \, scagliando a volume inumano “You Spin Me Round (Like a Record)
 ” e ribaltando l’intero concetto di decoro urbano con un solo “Siamo
  donne\, oltre le gambe c’è di più” al momento giusto.\nUna delle su
 e più grandi intuizioni è quella di essere tra i fondatori dell’Intern
 azionale Trash Ribelle\, un’alleanza segreta di agitatori sonori che ha 
 portato in tutto il mondo il verbo del pop degenerato\, delle sigle TV ass
 assine e delle hit impossibili da ignorare.\n\nPerché nulla disorienta il
  nemico quanto una folla che\, in pieno assedio poliziesco\, risponde con 
 un trenino sulle note di “Maracaibo”.\n2025.Pianeta terra.\n\nOra\, do
 po vent’anni di devastazione sonora\, Parente Diggei torna al TPO\, oggi
  in via Casarini 17/5\, per una grande festa.\nIl 15 marzo sarà un’epop
 ea\, un’apocalisse sonora\, un viaggio tra bassi profondi e ritornelli i
 mpresentabili.\nUn raduno per tutti i ribelli sonori.\nUn consiglio: porta
 te scarpe comode\, preparatevi a perdere la dignità e soprattutto\, non f
 ermatevi prima di “ Rebel Rebel”.\n\n&nbsp\;
ATTACH;FMTTYPE=image/jpeg:https://municipiozero.it/wp-content/uploads/2025
 /03/WhatsApp-Image-2025-02-26-at-13.06.32.jpeg
CATEGORIES:Tpo
LOCATION:Tpo\, Via Casarini 17/5\, Bologna\, Italia
X-APPLE-STRUCTURED-LOCATION;VALUE=URI;X-ADDRESS=Via Casarini 17/5\, Bologna
 \, Italia;X-APPLE-RADIUS=100;X-TITLE=Tpo:geo:0,0
END:VEVENT
BEGIN:VTIMEZONE
TZID:Europe/Rome
X-LIC-LOCATION:Europe/Rome
BEGIN:STANDARD
DTSTART:20241027T020000
TZOFFSETFROM:+0200
TZOFFSETTO:+0100
TZNAME:CET
END:STANDARD
END:VTIMEZONE
END:VCALENDAR