BEGIN:VCALENDAR
VERSION:2.0
PRODID:-//wp-events-plugin.com//6.6.3//EN
TZID:Europe/Rome
X-WR-TIMEZONE:Europe/Rome
BEGIN:VEVENT
UID:201@municipiozero.it
DTSTART;TZID=Europe/Rome:20241023T183000
DTEND;TZID=Europe/Rome:20241023T203000
DTSTAMP:20241019T121207Z
URL:https://municipiozero.it/events/presentazione-de-la-lunga-ritirata-di-
 boris-kagarlickij/
SUMMARY:Presentazione de "La lunga ritirata" di Boris Kagarlickij
DESCRIPTION:All'interno del Mercoledì di Làbas\, alle 18:30 ci sarà la p
 resentazione di questo libro\, con Jurii Colombo\, giornalista e curatore 
 del portale matrioska.info.\n\nCon lui parleremo della situazione politica
  e repressiva in Russia ed in Europa\, dei meriti e delle criticità del p
 ensiero di Boris Kagarlickij per il rilancio dell’iniziativa politica ne
 l nostro presente\, e di come possiamo continuare a batterci per il rilasc
 io di tutti i prigionieri politici.
ATTACH;FMTTYPE=image/jpeg:https://municipiozero.it/wp-content/uploads/2024
 /10/photo_5805588963262580247_y.jpg
CATEGORIES:Làbas
LOCATION:Làbas\, Vicolo Bolognetti 2\, Bologna\, Italia
X-APPLE-STRUCTURED-LOCATION;VALUE=URI;X-ADDRESS=Vicolo Bolognetti 2\, Bolog
 na\, Italia;X-APPLE-RADIUS=100;X-TITLE=Làbas:geo:0,0
END:VEVENT
BEGIN:VTIMEZONE
TZID:Europe/Rome
X-LIC-LOCATION:Europe/Rome
BEGIN:DAYLIGHT
DTSTART:20240331T030000
TZOFFSETFROM:+0100
TZOFFSETTO:+0200
TZNAME:CEST
END:DAYLIGHT
END:VTIMEZONE
END:VCALENDAR