BEGIN:VCALENDAR
VERSION:2.0
PRODID:-//wp-events-plugin.com//6.6.3//EN
TZID:Europe/Rome
X-WR-TIMEZONE:Europe/Rome
BEGIN:VEVENT
UID:1@municipiozero.it
DTSTART;TZID=Europe/Rome:20230914T183000
DTEND;TZID=Europe/Rome:20230914T200000
DTSTAMP:20230913T113951Z
URL:https://municipiozero.it/events/presentazione-del-libro-abitare-il-vor
 tice/
SUMMARY:Presentazione del libro: Abitare il vortice
DESCRIPTION:&nbsp\;\n\nGiovedì 14 settembre alle ore 18:30 a Làbas\, a pa
 rtire dalla presentazione del libro 𝘈𝘣𝘪𝘵𝘢𝘳𝘦 𝘪𝘭 
 𝘷𝘰𝘳𝘵𝘪𝘤𝘦\, 𝘤𝘰𝘮𝘦 𝘭𝘦 𝘤𝘪𝘵𝘵
 𝘢‌ 𝘩𝘢𝘯𝘯𝘰 𝘱𝘦𝘳𝘥𝘶𝘵𝘰 𝘪𝘭 𝘭
 𝘰𝘳𝘰 𝘴𝘦𝘯𝘴𝘰 𝘦 𝘤𝘰𝘮𝘦 𝘧𝘢𝘳𝘦 
 𝘱𝘦𝘳 𝘳𝘪𝘵𝘳𝘰𝘷𝘢𝘳𝘭𝘰\, discuteremo con l
 ’autore 𝗕𝗲𝗿𝘁𝗿𝗮𝗺 𝗡𝗶𝗲𝘀𝘀𝗲𝗻 - dire
 ttore di CheFare - ed 𝗔𝗹𝗶𝗰𝗲 𝗙𝗮𝗰𝗰𝗵𝗶𝗻
 𝗶 - giornalista esperta di temi sociali e abitare- degli aspetti cultur
 ali\, simbolici e politici del rapporto tra la casa e la città\, della ce
 ntralità di nuovi aspetti dell’abitare nella vita delle persone\, della
  questione abitativa nella costruzione di senso della città.\n𝗕𝗼
 𝗹𝗼𝗴𝗻𝗮 𝘀𝘁𝗮 𝗰𝗮𝗺𝗯𝗶𝗮𝗻𝗱𝗼\, l
 a turistificazione sta marciando velocemente\, l’avvento del Tecnopolo a
 vrà un impatto non indifferente nel cambiamento della città e della sua 
 componente attrattiva.\n\n\n𝘈𝘭𝘭𝘰 𝘴𝘤𝘰𝘱𝘱𝘪𝘰 
 𝘥𝘦𝘭𝘭𝘢 𝘱𝘢𝘯𝘥𝘦𝘮𝘪𝘢\, 𝘭𝘢 𝘷𝘪
 𝘵𝘢 𝘶𝘳𝘣𝘢𝘯𝘢 𝘴𝘪 𝘦‌ 𝘧𝘦𝘳𝘮𝘢
 𝘵𝘢. 𝘚𝘵𝘳𝘢𝘥𝘦 𝘥𝘦𝘴𝘦𝘳𝘵𝘦\, 𝘣𝘢
 𝘳 𝘤𝘩𝘪𝘶𝘴𝘪\, 𝘶𝘧𝘧𝘪𝘤𝘪 𝘷𝘶𝘰𝘵
 𝘪. 𝘊𝘰𝘯𝘧𝘪𝘯𝘢𝘵𝘪 𝘵𝘳𝘢 𝘭𝘦 𝘮𝘶
 𝘳𝘢 𝘥𝘰𝘮𝘦𝘴𝘵𝘪𝘤𝘩𝘦\, 𝘤𝘪 𝘴𝘪𝘢
 𝘮𝘰 𝘤𝘩𝘪𝘦𝘴𝘵𝘪: 𝘤𝘩𝘦 𝘴𝘦𝘯𝘴𝘰 
 𝘩𝘢 𝘷𝘪𝘷𝘦𝘳𝘦 𝘪𝘯 𝘤𝘪𝘵𝘵𝘢‌? 𝘋
 𝘶𝘦 𝘢𝘯𝘯𝘪 𝘥𝘰𝘱𝘰\, 𝘭𝘢 𝘥𝘰𝘮𝘢𝘯
 𝘥𝘢 𝘦‌ 𝘢𝘯𝘤𝘰𝘳𝘢 𝘢𝘱𝘦𝘳𝘵𝘢.\n
ATTACH;FMTTYPE=image/jpeg:https://municipiozero.it/wp-content/uploads/2023
 /09/375746359_694789552686789_3542925610491640447_n.jpg
LOCATION:Làbas\, Vicolo Bolognetti 2\, Bologna\, Italia
X-APPLE-STRUCTURED-LOCATION;VALUE=URI;X-ADDRESS=Vicolo Bolognetti 2\, Bolog
 na\, Italia;X-APPLE-RADIUS=100;X-TITLE=Làbas:geo:0,0
END:VEVENT
BEGIN:VTIMEZONE
TZID:Europe/Rome
X-LIC-LOCATION:Europe/Rome
BEGIN:DAYLIGHT
DTSTART:20230326T030000
TZOFFSETFROM:+0100
TZOFFSETTO:+0200
TZNAME:CEST
END:DAYLIGHT
END:VTIMEZONE
END:VCALENDAR