BEGIN:VCALENDAR
VERSION:2.0
PRODID:-//wp-events-plugin.com//6.6.3//EN
TZID:Europe/Rome
X-WR-TIMEZONE:Europe/Rome
BEGIN:VEVENT
UID:304@municipiozero.it
DTSTART;TZID=Europe/Rome:20250910T183000
DTEND;TZID=Europe/Rome:20250910T203000
DTSTAMP:20250907T175833Z
URL:https://municipiozero.it/events/presentazione-di-frammenti-di-kurdista
 n-con-yabasta-bologna/
SUMMARY:Presentazione di "Frammenti di Kurdistan" con YaBasta Bologna.
DESCRIPTION:Mercoledì 10 settembre\, alle 18:30 a Porta Pratello\, in via 
 Pietralata 58.\n\nPresentazione di "Frammenti di Kurdistan"\, un libro cur
 ato e tradotto da Francesco Marilungo e pubblicato da Alessandro Polidoro 
 Editore nel maggio 2025.\nIl libro è una raccolta di testi di autori curd
 i che esplora la condizione politica e culturale del popolo curdo\, la dia
 spora e il persistere della memoria e della lingua nonostante la divisione
  e la colonizzazione del territorio.\n\nIl curatore dialoga con Domenico "
 Meco" Mucignat (Associazione Ya Basta Bologna).\n\nDurante l'incontro banc
 hetto e raccolta fondi per la ricostruzione del nuovo Cinema Amude in Roja
 va.\n\nL'evento è in collaborazione con Associazione Ya Basta Bologna\, P
 olidoro Editore\, Porta Pratello\, La confraternita dell'uva - Libreria in
 dipendente e il Patto per la lettura di Bologna.
ATTACH;FMTTYPE=image/jpeg:https://municipiozero.it/wp-content/uploads/2025
 /09/ku.jpg
CATEGORIES:Action
LOCATION:https://www.bing.com/maps?&ty=18&q=Via%20Pietralata%2C%2058%2C%20B
 ologna%2C%20Emilia%20Romagna%2C%20Italia&mb=44.498793~11.322677~44.491003~
 11.339328&cardbg=%23F98745&dt=1757268000000&tt=Via%20Pietralata%2058%2C%20
 40122%20Bologna%20BO&tsts1=%2526ty%253D18%2526q%253DVia%252520Pietralata%2
 5252C%25252058%25252C%252520Bologna%25252C%252520Emilia%252520Romagna%2525
 2C%252520Italia%2526mb%253D44.498793~11.322677~44.491003~11.339328%2526car
 dbg%253D%252523F98745%2526dt%253D1757268000000&tstt1=Via%20Pietralata%2058
 %2C%2040122%20Bologna%20BO&cp=44.495263~11.330173&lvl=18.212324&pi=0&ftst=
 1&ftics=True&v=2&sV=2&form=S00027
END:VEVENT
BEGIN:VTIMEZONE
TZID:Europe/Rome
X-LIC-LOCATION:Europe/Rome
BEGIN:DAYLIGHT
DTSTART:20250330T030000
TZOFFSETFROM:+0100
TZOFFSETTO:+0200
TZNAME:CEST
END:DAYLIGHT
END:VTIMEZONE
END:VCALENDAR