BEGIN:VCALENDAR
VERSION:2.0
PRODID:-//wp-events-plugin.com//6.6.3//EN
TZID:Europe/Rome
X-WR-TIMEZONE:Europe/Rome
BEGIN:VEVENT
UID:305@municipiozero.it
DTSTART;TZID=Europe/Rome:20250917T190000
DTEND;TZID=Europe/Rome:20250917T210000
DTSTAMP:20250910T161002Z
URL:https://municipiozero.it/events/presentazione-di-sacro-rancore-labas/
SUMMARY:Presentazione di Sacro Rancore - Làbas
DESCRIPTION:Mercoledì 17 Settembre\, ore 19 a Làbas\, dialogo con l'autor
 e Mattia Tombolini e Domenico Mucignat - Municipio Sociale Tpo.\n\nIn “S
 acro Rancore” l’autore ripercorre il proprio percorso di formazione po
 litica nella Roma dell’inizio del nuovo secolo dalle esperienze dei cent
 ri sociali occupati\, passando attraverso le lotte studentesche che hanno 
 caratterizzato una generazione.
ATTACH;FMTTYPE=image/jpeg:https://municipiozero.it/wp-content/uploads/2025
 /09/sacro.jpg
CATEGORIES:Làbas
LOCATION:Làbas\, Vicolo Bolognetti 2\, Bologna\, Italia
X-APPLE-STRUCTURED-LOCATION;VALUE=URI;X-ADDRESS=Vicolo Bolognetti 2\, Bolog
 na\, Italia;X-APPLE-RADIUS=100;X-TITLE=Làbas:geo:0,0
END:VEVENT
BEGIN:VTIMEZONE
TZID:Europe/Rome
X-LIC-LOCATION:Europe/Rome
BEGIN:DAYLIGHT
DTSTART:20250330T030000
TZOFFSETFROM:+0100
TZOFFSETTO:+0200
TZNAME:CEST
END:DAYLIGHT
END:VTIMEZONE
END:VCALENDAR