BEGIN:VCALENDAR
VERSION:2.0
PRODID:-//wp-events-plugin.com//6.6.3//EN
TZID:Europe/Rome
X-WR-TIMEZONE:Europe/Rome
BEGIN:VEVENT
UID:338@municipiozero.it
DTSTART;TZID=Europe/Rome:20251115T150000
DTEND;TZID=Europe/Rome:20251115T170000
DTSTAMP:20251106T103216Z
URL:https://municipiozero.it/events/presentazione-n-28-di-jacobin-italia/
SUMMARY:Presentazione n.28 di Jacobin Italia
DESCRIPTION:Sabato 15 novembre alle 15.00 a Làbas\, presentazione del n.28
  della rivista con Carlotta Caciagli\, redattrice di Jacobin Italia.
ATTACH;FMTTYPE=image/jpeg:https://municipiozero.it/wp-content/uploads/2025
 /11/28-f.jpg
CATEGORIES:Làbas
LOCATION:Làbas\, Vicolo Bolognetti 2\, Bologna\, Italia
X-APPLE-STRUCTURED-LOCATION;VALUE=URI;X-ADDRESS=Vicolo Bolognetti 2\, Bolog
 na\, Italia;X-APPLE-RADIUS=100;X-TITLE=Làbas:geo:0,0
END:VEVENT
BEGIN:VTIMEZONE
TZID:Europe/Rome
X-LIC-LOCATION:Europe/Rome
BEGIN:STANDARD
DTSTART:20251026T020000
TZOFFSETFROM:+0200
TZOFFSETTO:+0100
TZNAME:CET
END:STANDARD
END:VTIMEZONE
END:VCALENDAR