BEGIN:VCALENDAR
VERSION:2.0
PRODID:-//wp-events-plugin.com//6.6.3//EN
TZID:Europe/Rome
X-WR-TIMEZONE:Europe/Rome
BEGIN:VEVENT
UID:327@municipiozero.it
DTSTART;TZID=Europe/Rome:20251030T200000
DTEND;TZID=Europe/Rome:20251030T220000
DTSTAMP:20251022T074523Z
URL:https://municipiozero.it/events/presentazione-ne-verticale-ne-orizzont
 ale-al-lab-aq16/
SUMMARY:Presentazione Nè verticale nè orizzontale al Lab Aq16
DESCRIPTION:Giovedì 30 ottobre ore 20.00 presso Lab AQ16\, presentazione d
 el libro Né verticale né orizzontale. Una teoria dell’organizzazione p
 olitica\, con l'autore Rodrigo Nunes.
ATTACH;FMTTYPE=image/jpeg:https://municipiozero.it/wp-content/uploads/2025
 /10/30.jpg
CATEGORIES:Action
LOCATION:https://www.bing.com/maps?&ty=30&q=Reggio%20nell%27Emilia%2C%20Reg
 gio%20nell%27Emilia%2C%20Italia&satid=id.sid%3A58e6dc28-9322-e21b-6693-ead
 a158b76c1&vdpid=7208770028060016641&mb=44.774036~10.471476~44.624245~10.79
 2752&cardbg=%23F98745&tt=Reggio%20nell%27Emilia%2C%20Reggio%20nell%27Emili
 a%2C%20Emilia%20Romagna%2C%20Italia&tsts0=%2526ty%253D30%2526q%253DReggio%
 252520nell%252527Emilia%25252C%252520Reggio%252520nell%252527Emilia%25252C
 %252520Italia%2526satid%253Did.sid%25253A58e6dc28-9322-e21b-6693-eada158b7
 6c1%2526vdpid%253D7208770028060016641%2526mb%253D44.774036~10.471476~44.62
 4245~10.792752%2526cardbg%253D%252523F98745&tstt0=Reggio%20nell%27Emilia%2
 C%20Reggio%20nell%27Emilia%2C%20Emilia%20Romagna%2C%20Italia&cp=44.699288~
 10.529624&lvl=11.72988&pi=0&ftst=0&ftics=False&v=2&sV=2&form=S00027
END:VEVENT
BEGIN:VTIMEZONE
TZID:Europe/Rome
X-LIC-LOCATION:Europe/Rome
BEGIN:STANDARD
DTSTART:20251026T020000
TZOFFSETFROM:+0200
TZOFFSETTO:+0100
TZNAME:CET
END:STANDARD
END:VTIMEZONE
END:VCALENDAR