BEGIN:VCALENDAR
VERSION:2.0
PRODID:-//wp-events-plugin.com//6.6.3//EN
TZID:Europe/Rome
X-WR-TIMEZONE:Europe/Rome
BEGIN:VEVENT
UID:88@municipiozero.it
DTSTART;TZID=Europe/Rome:20240308T083000
DTEND;TZID=Europe/Rome:20240308T113000
DTSTAMP:20240306T191330Z
URL:https://municipiozero.it/events/presidio-al-santorsola-8-marzo-si-scio
 pera/
SUMMARY:PRESIDIO AL SANT'ORSOLA - 8 MARZO SI SCIOPERA!
DESCRIPTION:𝗟'𝗢𝗧𝗧𝗢 𝗠𝗮𝗿𝘇𝗼 𝗦𝗖𝗜𝗢𝗣
 𝗘𝗥𝗢 𝗔𝗟𝗟'𝗢𝗦𝗣𝗘𝗗𝗔𝗟𝗘 𝗦.𝗢𝗥
 𝗦𝗢𝗟𝗔!\n\n𝘓𝘢𝘷𝘰𝘳𝘢𝘵𝘳𝘪𝘤𝘪 𝘥𝘦
 𝘪 𝘴𝘦𝘳𝘷𝘪𝘻𝘪 𝘤𝘰𝘯𝘵𝘳𝘰 𝘪𝘭 𝘭
 𝘢𝘷𝘰𝘳𝘰 𝘱𝘰𝘷𝘦𝘳𝘰 𝘦 𝘥𝘦𝘲𝘶𝘢
 𝘭𝘪𝘧𝘪𝘤𝘢𝘵𝘰\, 𝘱𝘦𝘳 𝘪𝘭 𝘥𝘪𝘳𝘪
 𝘵𝘵𝘰 𝘢𝘭𝘭𝘢 𝘴𝘢𝘭𝘶𝘵𝘦 𝘱𝘦𝘳 𝘵
 𝘶𝘵𝘵* Da oltre un anno sono in lotta le lavoratrici e i lavoratori
  che\, all'interno dell'Ospedale S. Orsola.\n\nSi tratta di lavoratori e l
 avoratrici che ogni giorno svolgono con professionalità\, cura ed esperie
 nza mansioni essenziali al fine di consentire il corretto funzionamento de
 ll’ospedale e di garantire\, attraverso servizi di qualità\, il diritto
  alla salute.\n\nPer la giornata dell’Otto Marzo ci ritroveremo in Via M
 assarenti 9 all’entrata dell’ospedale Sant’Orsola alle ore 8.30\, pe
 r poi raggiungere dalle 10 piazza Maggiore verso la piazza di Non Una Di M
 eno Bologna insieme al Laboratorio Salute Popolare
ATTACH;FMTTYPE=image/jpeg:https://municipiozero.it/wp-content/uploads/2024
 /03/photo_6001417550447100211_x.jpg
CATEGORIES:Action
END:VEVENT
BEGIN:VTIMEZONE
TZID:Europe/Rome
X-LIC-LOCATION:Europe/Rome
BEGIN:STANDARD
DTSTART:20231029T020000
TZOFFSETFROM:+0200
TZOFFSETTO:+0100
TZNAME:CET
END:STANDARD
END:VTIMEZONE
END:VCALENDAR