BEGIN:VCALENDAR
VERSION:2.0
PRODID:-//wp-events-plugin.com//6.6.3//EN
TZID:Europe/Rome
X-WR-TIMEZONE:Europe/Rome
BEGIN:VEVENT
UID:28@municipiozero.it
DTSTART;TZID=Europe/Rome:20231120T160000
DTEND;TZID=Europe/Rome:20231120T180000
DTSTAMP:20231118T152526Z
URL:https://municipiozero.it/events/presidio-continua-la-mobilitazione-dal
 -cas-mattei/
SUMMARY:PRESIDIO - CONTINUA LA MOBILITAZIONE DAL CAS MATTEI
DESCRIPTION:📢 𝐂𝐨𝐧𝐭𝐢𝐧𝐮𝐚 𝐢𝐧𝐬𝐢𝐞𝐦
 𝐞 𝐚𝐠𝐥𝐢 𝐚𝐛𝐢𝐭𝐚𝐧𝐭𝐢 𝐝𝐞𝐥 𝐌
 𝐚𝐭𝐭𝐞𝐢 𝐢𝐥 𝐩𝐞𝐫𝐜𝐨𝐫𝐬𝐨 𝐩𝐞
 𝐫 𝐫𝐢𝐯𝐞𝐧𝐝𝐢𝐜𝐚𝐫𝐞 𝐥’𝐢𝐧𝐢𝐳
 𝐢𝐨 𝐝𝐞𝐥𝐥’𝐢𝐭𝐞𝐫 𝐝𝐞𝐥𝐥𝐚 𝐫𝐢
 𝐜𝐡𝐢𝐞𝐬𝐭𝐚 𝐝'𝐚𝐬𝐢𝐥𝐨 𝐞 𝐝𝐨𝐜
 𝐮𝐦𝐞𝐧𝐭𝐢 𝐩𝐞𝐫 𝐭𝐮𝐭𝐭@.\n\n🤝 Dopo il t
 avolo in questura del 24/10\, in cui abbiamo contestato i lunghi tempi di 
 attesa per i primi step di avvio per la richiesta asilo\, lunedì 20/11 al
 le 16.00 ci incontreremo con ASP e Comune perché possano assumere un ruol
 o nella procedura di asilo in accordo con la questura mettendo a disposizi
 one risorse e personale.\n\n⏰ Se dopo l'incontro in questura si sono vis
 ti parziali risultati con divere persone convocate per il rilascio delle i
 mpronte\, solo in pochi sono riusciti a completare la formalizzazione dell
 a richiesta ricevendo un permesso. La maggior parte ha ricevuto l'appuntam
 ento per avviare la domanda solo a febbraio 2024. Questi tempi non sono ac
 cettabili\, perché costringono centinaia di persone ad una invisibilità 
 legale che non permette loro di costruirsi una vita degna a Bologna e li e
 spone a sfruttamento in nero e marginalità.\n\n⛓️ Inoltre è notizia 
 di ieri che alcune persone del Mattei sono state trasferite nel nuovo Cas 
 di Ozzano\, segregate in una struttura già da tempo definita inadeguata p
 er l'accoglienza\, e della settimana scorsa è la notizia che il progetto 
 per la costruzione del CPR di Ferrara sta proseguendo con il benestare del
  sindaco leghista\, nonostante le tensioni e le critiche di alcuni pezzi i
 mportanti della città. In ER si sta affermando inesorabilmente il modello
  confinatorio e stigmatizzante dei maxi-centri e dei CPR. Insieme alle per
 sone migranti che per prime subiscono le politiche xenofobe del governo Me
 loni-Salvini\, dobbiamo continuare a farci sentire e aprire spazi di conte
 stazione e dibattito pubblico contro le politiche del governo.\n\nVi invit
 iamo quindi al presidio sotto alla sede del Comune in Liber Paradisus\, lu
 nedì 20 novembre alle ore 16 per supportare la delegazione che parteciper
 à all'incontro e per denunciare le condizioni disumane in cui continuano 
 a vivere le centinaia di persone nel CAS di via Mattei\, e nelle altre str
 utture simili che stanno sorgendo nel nostro territorio.\n\n\n
ATTACH;FMTTYPE=image/jpeg:https://municipiozero.it/wp-content/uploads/2023
 /11/404168735_744624974358684_7750552547793229003_n.jpg
CATEGORIES:Action
END:VEVENT
BEGIN:VTIMEZONE
TZID:Europe/Rome
X-LIC-LOCATION:Europe/Rome
BEGIN:STANDARD
DTSTART:20231029T020000
TZOFFSETFROM:+0200
TZOFFSETTO:+0100
TZNAME:CET
END:STANDARD
END:VTIMEZONE
END:VCALENDAR