BEGIN:VCALENDAR
VERSION:2.0
PRODID:-//wp-events-plugin.com//6.6.3//EN
TZID:Europe/Rome
X-WR-TIMEZONE:Europe/Rome
BEGIN:VEVENT
UID:76@municipiozero.it
DTSTART;TZID=Europe/Rome:20240301T180000
DTEND;TZID=Europe/Rome:20240301T200000
DTSTAMP:20240225T200714Z
URL:https://municipiozero.it/events/presidio-per-la-difesa-della-salute-e-
 della-sanita-pubblica/
SUMMARY:PRESIDIO PER LA DIFESA DELLA SALUTE E DELLA SANITÀ PUBBLICA
DESCRIPTION:CI VOLETE IN MILLE PEZZI... CI AVRETE UNITƏ IN MILLE PIAZZE!\n
 \nBologna - Presidio venerdì 1 marzo\, ore 18 in Piazza del Nettuno.\n\n2
 6 FEBBRAIO - 3 MARZO 2024\n\nSETTIMANA DI MOBILITAZIONE NAZIONALE PER LA D
 IFESA DELLA SALUTE E DELLA SANITÀ PUBBLICA: UNISCITI A NOI!\n\n• Per di
 fendere i consultori pubblici\, per pretendere che non vengano smantellati
  o svuotati della loro funzione di risposta ai reali bisogni dei territori
  e delle soggettività che li abitano\;\n\n• Per autogestire consultorie
  transfemministe come luoghi di elaborazione politica e di costruzione di 
 sguardi e pratiche diverse sul diritto alla salute e al benessere individu
 ale e collettivo\;\n\n• Per lottare contro la distruzione del Servizio S
 anitario Nazionale pubblico e la sua conseguente privatizzazione\, che coi
 nvolge i consultori in prima linea\;\n\n• Per contrastare le politiche s
 anitarie nazionali e regionali che svuotano di servizi e di personale i co
 nsultori\, fino ad arrivare alla loro chiusura e contemporaneamente potenz
 iano le strutture private gestite da enti religiosi e associazioni sedicen
 ti pro-vita\;\n\n• Per estirpare l'obiezione di coscienza in tutte le su
 e forme\;\n\n• Perché siamo provatə dalle malattie\, dal disagio socia
 le e dalle violenze\, dallo sfruttamento sul lavoro e dalle conseguenze di
 sastrose dei cambiamenti climatici\, dei territori portati allo stremo\, d
 elle acque inquinate e dell'aria irrespirabile.\n\n#RIPRENDIAMOCIICONSULTO
 RI E PRETENDIAMO\n\n#CONSULTORIƏPERTUTTƏ\n\nLa condivisione\, la chiarez
 za dei nostri obiettivi e la nostra rabbia contro la negazione dei nostri 
 diritti e contro la violenza del patriarcato sono la nostra forza: CI VOLE
 TE IN MILLE PEZZI... CI AVRETE UNITƏ IN MILLE PIAZZE!\n\nForti delle mobi
 litazione e delle riflessioni fatte con Non Una Di Meno e con le varie rea
 ltà transfemmministe\, le nostre piazze proseguiranno anche l'8 marzo.\n\
 n SCIOPERIAMO TUTTƏ PER UNA SALUTE TRANSFEMMINISTA! 
ATTACH;FMTTYPE=image/jpeg:https://municipiozero.it/wp-content/uploads/2024
 /02/photo_5969804173081952547_x.jpg
CATEGORIES:Action
END:VEVENT
BEGIN:VTIMEZONE
TZID:Europe/Rome
X-LIC-LOCATION:Europe/Rome
BEGIN:STANDARD
DTSTART:20231029T020000
TZOFFSETFROM:+0200
TZOFFSETTO:+0100
TZNAME:CET
END:STANDARD
END:VTIMEZONE
END:VCALENDAR