BEGIN:VCALENDAR
VERSION:2.0
PRODID:-//wp-events-plugin.com//6.6.3//EN
TZID:Europe/Rome
X-WR-TIMEZONE:Europe/Rome
BEGIN:VEVENT
UID:17@municipiozero.it
DTSTART;TZID=Europe/Rome:20231015T180000
DTEND;TZID=Europe/Rome:20231015T230000
DTSTAMP:20231014T212129Z
URL:https://municipiozero.it/events/rassegna-cinematografica-a-in-out/
SUMMARY:RASSEGNA CINEMATOGRAFICA A IN/OUT
DESCRIPTION:Proiezione a IN/OUT de "La casa è di chi l’abita\, Porta Pia
  occupata"\, del 2019\, con la presenza del regista Luis Fulvio.\n\nIN/OUT
  è l'occupazione abitativa nata il 6 ottobre a Bologna\, nell'Istituto Sa
 nta Giuliana\, in via Mazzini 90.\n\nQuesta proiezione è la prima di una 
 serie sulle occupazioni e sul diritto all'abitare.\n\nDalle 18\, sarà org
 anizzato anche un aperitivo ed una cena sociale!\n\nA domenica!
ATTACH;FMTTYPE=image/jpeg:https://municipiozero.it/wp-content/uploads/2023
 /10/rass-inout.jpg
CATEGORIES:Action
END:VEVENT
BEGIN:VTIMEZONE
TZID:Europe/Rome
X-LIC-LOCATION:Europe/Rome
BEGIN:DAYLIGHT
DTSTART:20230326T030000
TZOFFSETFROM:+0100
TZOFFSETTO:+0200
TZNAME:CEST
END:DAYLIGHT
END:VTIMEZONE
END:VCALENDAR