BEGIN:VCALENDAR
VERSION:2.0
PRODID:-//wp-events-plugin.com//6.6.3//EN
TZID:Europe/Rome
X-WR-TIMEZONE:Europe/Rome
BEGIN:VEVENT
UID:187@municipiozero.it
DTSTART;TZID=Europe/Rome;VALUE=DATE:20241102
DTEND;TZID=Europe/Rome;VALUE=DATE:20241104
DTSTAMP:20241001T094031Z
URL:https://municipiozero.it/events/riproduzione-sociale-sguardi-lotte-sce
 nari-euronomade/
SUMMARY:Riproduzione sociale: sguardi\, lotte\, scenari - Euronomade
DESCRIPTION:A Bologna\, il 2-3 novembre 2024\, in via Zamboni 38\, si terr
 à il seminario di Euronomade.\n\nQui le informazioni e il programma.
ATTACH;FMTTYPE=image/jpeg:https://municipiozero.it/wp-content/uploads/2024
 /10/EN-Riproduzione-sociale-sguardi-lotte-scenari-1086x1536-1.png
CATEGORIES:Action
END:VEVENT
BEGIN:VTIMEZONE
TZID:Europe/Rome
X-LIC-LOCATION:Europe/Rome
BEGIN:STANDARD
DTSTART:20241027T020000
TZOFFSETFROM:+0200
TZOFFSETTO:+0100
TZNAME:CET
END:STANDARD
END:VTIMEZONE
END:VCALENDAR