BEGIN:VCALENDAR
VERSION:2.0
PRODID:-//wp-events-plugin.com//6.6.3//EN
TZID:Europe/Rome
X-WR-TIMEZONE:Europe/Rome
BEGIN:VEVENT
UID:138@municipiozero.it
DTSTART;TZID=Europe/Rome:20240528T180000
DTEND;TZID=Europe/Rome:20240528T200000
DTSTAMP:20240527T130237Z
URL:https://municipiozero.it/events/rise-up-for-rafah-mobilitazione-a-bolo
 gna/
SUMMARY:Rise up for Rafah - mobilitazione a Bologna
DESCRIPTION:STOP THE GENOCIDE!\n\nMartedì 28 maggio saremo alle 18 in Piaz
 za XX settembre a Bologna\, in risposta ai bombardamenti israeliani su Raf
 ah della scorsa notte.
ATTACH;FMTTYPE=image/jpeg:https://municipiozero.it/wp-content/uploads/2024
 /05/photo_5956274566538052203_y-1.jpg
CATEGORIES:Action
END:VEVENT
BEGIN:VTIMEZONE
TZID:Europe/Rome
X-LIC-LOCATION:Europe/Rome
BEGIN:DAYLIGHT
DTSTART:20240331T030000
TZOFFSETFROM:+0100
TZOFFSETTO:+0200
TZNAME:CEST
END:DAYLIGHT
END:VTIMEZONE
END:VCALENDAR