BEGIN:VCALENDAR
VERSION:2.0
PRODID:-//wp-events-plugin.com//6.6.3//EN
TZID:Europe/Rome
X-WR-TIMEZONE:Europe/Rome
BEGIN:VEVENT
UID:276@municipiozero.it
DTSTART;TZID=Europe/Rome:20250412T193000
DTEND;TZID=Europe/Rome:20250412T213000
DTSTAMP:20250406T173142Z
URL:https://municipiozero.it/events/serata-di-autofinanziamento-per-lapert
 ura-del-laboratorio-ginecologico-popolare/
SUMMARY:Serata di autofinanziamento per l'apertura del laboratorio ginecolo
 gico popolare
DESCRIPTION:Sabato 12 aprile\, dalle 19:30 al TPO\, via Casarini 17/4.\n\n
 𝗦𝗲𝗿𝗮𝘁𝗮 𝗱𝗶 𝗮𝘂𝘁𝗼𝗳𝗶𝗻𝗮𝗻𝘇
 𝗶𝗮𝗺𝗲𝗻𝘁𝗼 𝗽𝗲𝗿 𝗹’𝗮𝗽𝗲𝗿𝘁𝘂
 𝗿𝗮 𝗱𝗲𝗹 𝗹𝗮𝗯𝗼𝗿𝗮𝘁𝗼𝗿𝗶𝗼 𝗴
 𝗶𝗻𝗲𝗰𝗼𝗹𝗼𝗴𝗶𝗰𝗼 𝗽𝗼𝗽𝗼𝗹𝗮𝗿
 𝗲!\n\n𝗣𝗲𝗿 𝗽𝗿𝗲𝗻𝗼𝘁𝗮𝗿𝗲 𝗹𝗮 𝗰
 𝗲𝗻𝗮 𝗲 𝘀𝗲𝗴𝗻𝗮𝗹𝗮𝗿𝗰𝗶 𝗽𝗮𝗿
 𝘁𝗶𝗰𝗼𝗹𝗮𝗿𝗶 𝗲𝘀𝗶𝗴𝗲𝗻𝘇𝗲 𝗮𝗹
 𝗶𝗺𝗲𝗻𝘁𝗮𝗿𝗶\, 𝗶𝗻𝘁𝗼𝗹𝗹𝗲𝗿𝗮
 𝗻𝘇𝗲 𝗲 𝗮𝗹𝗹𝗲𝗿𝗴𝗶𝗲 𝗰𝗼𝗻𝘁𝗮
 𝘁𝘁𝗮𝗰𝗶 𝗮𝗹 𝗻𝘂𝗺𝗲𝗿𝗼 𝟯𝟱𝟭𝟭
 𝟮𝟮𝟲𝟴𝟲𝟱
ATTACH;FMTTYPE=image/jpeg:https://municipiozero.it/wp-content/uploads/2025
 /04/12.jpg
CATEGORIES:Tpo
LOCATION:Tpo\, Via Casarini 17/5\, Bologna\, Italia
X-APPLE-STRUCTURED-LOCATION;VALUE=URI;X-ADDRESS=Via Casarini 17/5\, Bologna
 \, Italia;X-APPLE-RADIUS=100;X-TITLE=Tpo:geo:0,0
END:VEVENT
BEGIN:VTIMEZONE
TZID:Europe/Rome
X-LIC-LOCATION:Europe/Rome
BEGIN:DAYLIGHT
DTSTART:20250330T030000
TZOFFSETFROM:+0100
TZOFFSETTO:+0200
TZNAME:CEST
END:DAYLIGHT
END:VTIMEZONE
END:VCALENDAR