BEGIN:VCALENDAR
VERSION:2.0
PRODID:-//wp-events-plugin.com//6.6.3//EN
TZID:Europe/Rome
X-WR-TIMEZONE:Europe/Rome
BEGIN:VEVENT
UID:322@municipiozero.it
DTSTART;TZID=Europe/Rome:20251014T173000
DTEND;TZID=Europe/Rome:20251014T203000
DTSTAMP:20251001T073556Z
URL:https://municipiozero.it/events/show-israel-the-red-card/
SUMMARY:Show Israel the Red Card
DESCRIPTION:Martedì 14 ottobre 2025\, alle 17.30 in Piazza della Repubblic
 a a Udine\, manifestazione in occasione della partita di calcio Italia-Isr
 aele. Show Israel the Red Card!
ATTACH;FMTTYPE=image/jpeg:https://municipiozero.it/wp-content/uploads/2025
 /10/14.jpg
CATEGORIES:Action
LOCATION:https://www.bing.com/maps?&ty=30&q=Udine%2C%20Udine%2C%20Italia&sa
 tid=id.sid%3A3137f4b8-d486-fd60-05d8-ff5c5f32c8b4&vdpid=702267737874051891
 3&mb=46.117123~13.112672~46.001743~13.366167&cardbg=%23F98745&tt=Udine%2C%
 2033100%2C%20Udine%2C%20Friuli-Venezia%20Giulia%2C%20Italia&tsts0=%2526ty%
 253D30%2526q%253DUdine%25252C%252520Udine%25252C%252520Italia%2526satid%25
 3Did.sid%25253A3137f4b8-d486-fd60-05d8-ff5c5f32c8b4%2526vdpid%253D70226773
 78740518913%2526mb%253D46.117123~13.112672~46.001743~13.366167%2526cardbg%
 253D%252523F98745&tstt0=Udine%2C%2033100%2C%20Udine%2C%20Friuli-Venezia%20
 Giulia%2C%20Italia&cp=46.059595~13.158281&lvl=12.071742&pi=0&ftst=0&ftics=
 False&v=2&sV=2&form=S00027
END:VEVENT
BEGIN:VTIMEZONE
TZID:Europe/Rome
X-LIC-LOCATION:Europe/Rome
BEGIN:DAYLIGHT
DTSTART:20250330T030000
TZOFFSETFROM:+0100
TZOFFSETTO:+0200
TZNAME:CEST
END:DAYLIGHT
END:VTIMEZONE
END:VCALENDAR