BEGIN:VCALENDAR
VERSION:2.0
PRODID:-//wp-events-plugin.com//6.6.3//EN
TZID:Europe/Rome
X-WR-TIMEZONE:Europe/Rome
BEGIN:VEVENT
UID:151@municipiozero.it
DTSTART;TZID=Europe/Rome:20240701T210000
DTEND;TZID=Europe/Rome:20240701T223000
DTSTAMP:20240628T134230Z
URL:https://municipiozero.it/events/sport-beats-borders-la-palestra-popola
 re-tpo-nel-campo-di-shatila/
SUMMARY:Sport Beats Borders: la palestra popolare TPO nel campo di Shatila
DESCRIPTION:Lunedì 1° Luglio alle ore 21.00\, durante la NO Border Cup pr
 esso il centro Sportivo Pizzoli (via zanardi 228)\n\n“Sport Beats Border
 s: la palestra popolare TPO nel campo di Shatila”: la delegazione del co
 rso di boxe della Palestra Popolare Tpo racconterà l'esperienza vissuta a
 l campo profughi di Shatila (Beirut)\, attraverso le immagini e le parole 
 delle persone incontrate\, che vivono da decenni la marginalità e l'esclu
 sione in quanto profughə.
ATTACH;FMTTYPE=image/jpeg:https://municipiozero.it/wp-content/uploads/2024
 /06/IMG_2994.jpg
CATEGORIES:Pizzoli
END:VEVENT
BEGIN:VTIMEZONE
TZID:Europe/Rome
X-LIC-LOCATION:Europe/Rome
BEGIN:DAYLIGHT
DTSTART:20240331T030000
TZOFFSETFROM:+0100
TZOFFSETTO:+0200
TZNAME:CEST
END:DAYLIGHT
END:VTIMEZONE
END:VCALENDAR