BEGIN:VCALENDAR
VERSION:2.0
PRODID:-//wp-events-plugin.com//6.6.3//EN
TZID:Europe/Rome
X-WR-TIMEZONE:Europe/Rome
BEGIN:VEVENT
UID:70@municipiozero.it
DTSTART;TZID=Europe/Rome:20240224T143000
DTEND;TZID=Europe/Rome:20240224T183000
DTSTAMP:20240221T150026Z
URL:https://municipiozero.it/events/stop-al-genocidio-manifestazione-nazio
 nale/
SUMMARY:STOP AL GENOCIDIO - MANIFESTAZIONE NAZIONALE
DESCRIPTION:Sabato 24 febbraio\, in risposta all’appello delle diverse re
 altà palestinesi italiane\, saremo anche noi a Milano per la manifestazio
 ne nazionale per chiedere un immediato cessate il fuoco e la fine del colo
 nialismo israeliano in Palestina.\n\nDobbiamo contrastare\, boicottare\, r
 ipudiare il progetto coloniale e nazionalista israeliano\, e con esso chi 
 ne è complice.\n\nSabato 24 febbraio\, tuttx a Milano!\n\nSTOP THE GENOCI
 DE\n\nFREE PALESTINE
ATTACH;FMTTYPE=image/jpeg:https://municipiozero.it/wp-content/uploads/2024
 /02/photo_5958528324856824075_x.jpg
CATEGORIES:Action
END:VEVENT
BEGIN:VTIMEZONE
TZID:Europe/Rome
X-LIC-LOCATION:Europe/Rome
BEGIN:STANDARD
DTSTART:20231029T020000
TZOFFSETFROM:+0200
TZOFFSETTO:+0100
TZNAME:CET
END:STANDARD
END:VTIMEZONE
END:VCALENDAR