BEGIN:VCALENDAR
VERSION:2.0
PRODID:-//wp-events-plugin.com//6.6.3//EN
TZID:Europe/Rome
X-WR-TIMEZONE:Europe/Rome
BEGIN:VEVENT
UID:77@municipiozero.it
DTSTART;TZID=Europe/Rome;VALUE=DATE:20240228
DTEND;TZID=Europe/Rome;VALUE=DATE:20240229
DTSTAMP:20240226T150221Z
URL:https://municipiozero.it/events/support-youth-of-sumud/
SUMMARY:SUPPORT YOUTH OF SUMUD
DESCRIPTION: 🅢🅤🅟🅟🅞🅡🅣 🅨🅞🅤🅣🅗 🅞🅕 
 🅢🅤🅜🅤🅓 \n\nMercoledì sera all’ingresso di Làbas\, chiede
 remo un’offerta libera per sostenere @youthofsumud\, organizzazione pale
 stinese che resiste ogni giorno attraverso pratiche non violente di resist
 enza al colonialismo israeliano\, al sionismo e alla sua occupazione.\n\nS
 iamo dalla parte del popolo palestinese che resiste contro l’occupazione
  in Cisgiordania e la guerra a Gaza e invitiamo tutte le persone solidali 
 a sostenere organizzazioni come Youth of Samud che si batte tutti i giorni
  per diritti\, spazio\, sicurezza e libertà dei palestinesi\, contro le a
 ttività illegali dei coloni e di Israele.\n\nInoltre\, durante il consuet
 o mercoledì di Làbas\, saranno proiettati diversi loro video dalla Pales
 tina e alcuni dei loro attivistə saranno presenti per presentarci la loro
  organizzazione.\n\n𝑺𝒕𝒐𝒑 𝒕𝒉𝒆 𝒈𝒆𝒏𝒐𝒄𝒊
 𝒅𝒆\, 𝑭𝒓𝒆𝒆 𝑷𝒂𝒍𝒆𝒔𝒕𝒊𝒏𝒆! 
ATTACH;FMTTYPE=image/jpeg:https://municipiozero.it/wp-content/uploads/2024
 /02/photo_5972096397127826834_y.jpg
CATEGORIES:Làbas
LOCATION:Làbas\, Vicolo Bolognetti 2\, Bologna\, Italia
X-APPLE-STRUCTURED-LOCATION;VALUE=URI;X-ADDRESS=Vicolo Bolognetti 2\, Bolog
 na\, Italia;X-APPLE-RADIUS=100;X-TITLE=Làbas:geo:0,0
END:VEVENT
BEGIN:VTIMEZONE
TZID:Europe/Rome
X-LIC-LOCATION:Europe/Rome
BEGIN:STANDARD
DTSTART:20231029T020000
TZOFFSETFROM:+0200
TZOFFSETTO:+0100
TZNAME:CET
END:STANDARD
END:VTIMEZONE
END:VCALENDAR