BEGIN:VCALENDAR
VERSION:2.0
PRODID:-//wp-events-plugin.com//6.6.3//EN
TZID:Europe/Rome
X-WR-TIMEZONE:Europe/Rome
BEGIN:VEVENT
UID:145@municipiozero.it
DTSTART;TZID=Europe/Rome:20240702T200000
DTEND;TZID=Europe/Rome:20240702T230000
DTSTAMP:20240619T124111Z
URL:https://municipiozero.it/events/tempo-di-speranza-botanique/
SUMMARY:Tempo di speranza - in sostegno al Kurdistan
DESCRIPTION:Il 2 Luglio dalle ore 20.00 a Bologna c’è  𝐓E𝐌P𝐎 
 𝐃I S𝐏E𝐑A𝐍Z𝐀\n\n Per la libertà e autodeterminazione della 
 popolazione curda\n\n Letture di Bergonzoni\, Capovilla\, Albi e Carota de
  Lo Stato Social e Fiorenza Menni\, musica di Suz e DJ Gruff!\n\nIngresso 
 gratuito\n\nSostieni con noi la popolazione Curda!\n\nLocandina di Zerocal
 care
ATTACH;FMTTYPE=image/jpeg:https://municipiozero.it/wp-content/uploads/2024
 /06/photo_6017110630802243749_y-1.jpg
CATEGORIES:Action
END:VEVENT
BEGIN:VTIMEZONE
TZID:Europe/Rome
X-LIC-LOCATION:Europe/Rome
BEGIN:DAYLIGHT
DTSTART:20240331T030000
TZOFFSETFROM:+0100
TZOFFSETTO:+0200
TZNAME:CEST
END:DAYLIGHT
END:VTIMEZONE
END:VCALENDAR