BEGIN:VCALENDAR
VERSION:2.0
PRODID:-//wp-events-plugin.com//6.6.3//EN
TZID:Europe/Rome
X-WR-TIMEZONE:Europe/Rome
BEGIN:VEVENT
UID:284@municipiozero.it
DTSTART;TZID=Europe/Rome:20250517T110000
DTEND;TZID=Europe/Rome:20250517T210000
DTSTAMP:20250510T084950Z
URL:https://municipiozero.it/events/the-show-must-go-on-labas/
SUMMARY:The Show must go on - Làbas
DESCRIPTION:Sabato 17 maggio – dalle 11 in poi\n\nIn un presente che ci v
 uole divisi\, individualisti e consumatori\, noi scegliamo di essere comun
 ità.\n\nDurante la giornata:\n\n🍝 pranzo sociale\n🎶 concerti e open
  mic\n📖 poesie e letture\n👩‍🎤 stand up comedy\n🏅 torneo di b
 iliardino\n🛍️ banchetti indipendenti all’intendo della cornice di @
 eraoramarket\n\nLàbas è uno spazio di aggregazione reale\, dove si colti
 vano relazioni non mercificate\, cultura accessibile e autogestione.\n\nE 
 sì\, lo show deve continuare. Insieme
ATTACH;FMTTYPE=image/jpeg:https://municipiozero.it/wp-content/uploads/2025
 /05/17.jpg
CATEGORIES:Làbas
LOCATION:Làbas\, Vicolo Bolognetti 2\, Bologna\, Italia
X-APPLE-STRUCTURED-LOCATION;VALUE=URI;X-ADDRESS=Vicolo Bolognetti 2\, Bolog
 na\, Italia;X-APPLE-RADIUS=100;X-TITLE=Làbas:geo:0,0
END:VEVENT
BEGIN:VTIMEZONE
TZID:Europe/Rome
X-LIC-LOCATION:Europe/Rome
BEGIN:DAYLIGHT
DTSTART:20250330T030000
TZOFFSETFROM:+0100
TZOFFSETTO:+0200
TZNAME:CEST
END:DAYLIGHT
END:VTIMEZONE
END:VCALENDAR