BEGIN:VCALENDAR
VERSION:2.0
PRODID:-//wp-events-plugin.com//6.6.3//EN
TZID:Europe/Rome
X-WR-TIMEZONE:Europe/Rome
BEGIN:VEVENT
UID:302@municipiozero.it
DTSTART;TZID=Europe/Rome:20250908T193000
DTEND;TZID=Europe/Rome:20250908T213000
DTSTAMP:20250907T164028Z
URL:https://municipiozero.it/events/tifiamo-ancora-palestina-show-israel-t
 he-red-card/
SUMMARY:Tifiamo ancora Palestina. Show Israel the Red card
DESCRIPTION:Lunedì 8 settembre ore 19.30 presidio in Piazza Maggiore per d
 ire STOP AL GENOCIDIO.\n\nÈ partita la mobilitazione che vedrà il 14 ott
 obre una manifestazione a Udine\, con tanti e tante che mostreranno il car
 tellino rosso a Israele\, alla sua arroganza coloniale e alla sua violenza
  genocida contro la popolazione.\n\nPresidio in piazza Maggiore lunedì 8 
 settembre alle ore 19:30 per dire STOP AL GENOCIDIO\, per fare pressione s
 ulle istituzioni sportive come la FIFA per l'esclusione di Israele dalle c
 ompetizioni internazionali\, per una Palestina Libera!
ATTACH;FMTTYPE=image/jpeg:https://municipiozero.it/wp-content/uploads/2025
 /09/pale.jpg
CATEGORIES:Action
LOCATION:https://www.bing.com/maps?&ty=18&q=piazza%20maggiore&ss=ypid.YN135
 4x14963111147346787686&mb=44.497646~11.339929~44.489855~11.346281&descript
 ion=Piazza%20Maggiore%20-%2040124%20Bologna%20%28BO%29&cardbg=%23219AB6&dt
 =1757264400000&tt=Piazza%20Maggiore&tsts0=%2526ty%253D18%2526q%253Dpiazza%
 252520maggiore%2526ss%253Dypid.YN1354x14963111147346787686%2526mb%253D44.4
 97646~11.339929~44.489855~11.346281%2526description%253DPiazza%252520Maggi
 ore%252520-%25252040124%252520Bologna%252520%252528BO%252529%2526cardbg%25
 3D%252523219AB6%2526dt%253D1757264400000&tstt0=Piazza%20Maggiore&cp=44.493
 75~11.332633&lvl=16&pi=0&ftst=0&ftics=False&v=2&sV=2&form=S00027
END:VEVENT
BEGIN:VTIMEZONE
TZID:Europe/Rome
X-LIC-LOCATION:Europe/Rome
BEGIN:DAYLIGHT
DTSTART:20250330T030000
TZOFFSETFROM:+0100
TZOFFSETTO:+0200
TZNAME:CEST
END:DAYLIGHT
END:VTIMEZONE
END:VCALENDAR