BEGIN:VCALENDAR
VERSION:2.0
PRODID:-//wp-events-plugin.com//6.6.3//EN
TZID:Europe/Rome
X-WR-TIMEZONE:Europe/Rome
BEGIN:VEVENT
UID:79@municipiozero.it
DTSTART;TZID=Europe/Rome:20240228T123000
DTEND;TZID=Europe/Rome:20240228T133000
DTSTAMP:20240228T105027Z
URL:https://municipiozero.it/events/torniamoabologna-conferenza-stampa/
SUMMARY:TorniAMOaBologna! - Conferenza Stampa
DESCRIPTION:𝐌𝐚𝐧𝐠𝐚𝐧𝐞𝐥𝐥𝐢 𝐞 𝐝𝐢𝐯𝐢
 𝐞𝐭𝐨 𝐝𝐢 𝐝𝐢𝐬𝐬𝐞𝐧𝐬𝐨 𝐚 𝐁𝐨𝐥
 𝐨𝐠𝐧𝐚: 𝐋𝐞 𝐝𝐮𝐞 𝐯𝐞𝐫𝐢𝐭𝐚̀\, 𝐨 
 𝐦𝐞𝐠𝐥𝐢𝐨\, 𝐮𝐧𝐚 𝐫𝐞𝐚𝐥𝐭𝐚̀ 𝐞 
 𝐥𝐨 𝐬𝐭𝐨𝐫𝐲 𝐭𝐞𝐥𝐥𝐢𝐧𝐠.\n\nQueste sono
  le due facce del mattino in città\, la prima si manifesta nel folle prov
 vedimento di divieto di dimora a Bologna contro sei attivisti dei Municipi
  sociali\; la seconda è l’auto rappresentazione che il questore Sbordon
 e fa di sé e dei suoi plotoni: ‘manganelli dispiaciuti del sangue vers
 ato’.\n\nSbordone passeggiava alla scuola Diaz\, nel luglio del 2001. Un
 ’ipoteca definitiva sulla sua credibilità.\n\n𝐋𝐞 𝐩𝐚𝐫𝐨
 𝐥𝐞 𝐬𝐨𝐧𝐨 𝐬𝐪𝐮𝐚𝐥𝐥𝐢𝐝𝐞 𝐦𝐞
 𝐧𝐳𝐨𝐠𝐧𝐞 𝐜𝐡𝐞 𝐜𝐨𝐩𝐫𝐨𝐧𝐨 𝐮
 𝐧’𝐢𝐧𝐢𝐳𝐢𝐚𝐭𝐢𝐯𝐚 𝐜𝐡𝐢𝐫𝐮𝐫
 𝐠𝐢𝐜𝐚 𝐝𝐢 𝐬𝐚𝐛𝐨𝐭𝐚𝐠𝐠𝐢𝐨 𝐝
 𝐞𝐥𝐥’𝐚𝐭𝐭𝐢𝐯𝐢𝐬𝐦𝐨 𝐬𝐨𝐥𝐢𝐝
 𝐚𝐥𝐞\, 𝐬𝐨𝐜𝐢𝐚𝐥𝐞\, 𝐜𝐥𝐢𝐦𝐚𝐭𝐢
 𝐜𝐨\, 𝐦𝐮𝐧𝐢𝐜𝐢𝐩𝐚𝐥𝐞 𝐜𝐨𝐧 𝐥𝐚 
 𝐪𝐮𝐚𝐥𝐞 𝐯𝐞𝐧𝐠𝐨𝐧𝐨 𝐜𝐨𝐥𝐩𝐢𝐭
 𝐢 𝐧𝐨𝐬𝐭𝐫𝐢 𝐟𝐫𝐚𝐭𝐞𝐥𝐥𝐢 𝐚𝐭
 𝐭𝐢𝐯𝐢 𝐧𝐞𝐢 𝐝𝐨𝐩𝐨𝐬𝐜𝐮𝐨𝐥𝐚 
 𝐩𝐞𝐫 𝐥ǝ 𝐫𝐚𝐠𝐚𝐳𝐳ǝ 𝐝𝐞𝐥𝐥𝐞 𝐜
 𝐚𝐬𝐞 𝐩𝐨𝐩𝐨𝐥𝐚𝐫𝐢\, 𝐨𝐩𝐞𝐫𝐚𝐭
 𝐨𝐫𝐢 𝐬𝐨𝐜𝐢𝐚𝐥𝐢\, 𝐬𝐢𝐧𝐝𝐚𝐜𝐚
 𝐥𝐢𝐬𝐭𝐢 𝐢𝐧𝐝𝐢𝐩𝐞𝐧𝐝𝐞𝐧𝐭𝐢\, 
 𝐬𝐭𝐮𝐝𝐞𝐧𝐭𝐢.\n\nChi nell’ottobre 2023 ha occupato u
 no stabile vuoto\, della chiesa\, per combattere la città respingente deg
 li airbnb e degli studentati di lusso\, ora si ritrova a essere respinto d
 alla magistratura\, chi voleva salvare Bologna si ritrova espulso.\n\nIl p
 otere combatte sempre il dissenso\, nella città più progressista d’Ita
 lia\, come nelle periferie degli altri imperi.\n\n𝐈 𝐬𝐞𝐢 𝐜
 𝐨𝐦𝐩𝐚𝐠𝐧𝐢 𝐬𝐨𝐧𝐨 𝐜𝐢𝐭𝐭𝐚𝐝𝐢
 𝐧𝐢 𝐚𝐭𝐭𝐢𝐯𝐢 𝐜𝐡𝐞 𝐩𝐫𝐨𝐩𝐫𝐢
 𝐨 𝐢𝐧 𝐪𝐮𝐞𝐬𝐭𝐢 𝐠𝐢𝐨𝐫𝐧𝐢 𝐬𝐭
 𝐚𝐧𝐧𝐨 𝐨𝐫𝐠𝐚𝐧𝐢𝐳𝐳𝐚𝐧𝐝𝐨 𝐜𝐨
 𝐧𝐯𝐞𝐠𝐧𝐢 𝐬𝐮𝐥𝐥’𝐈𝐧𝐭𝐞𝐥𝐥𝐢
 𝐠𝐞𝐧𝐳𝐚 𝐀𝐫𝐭𝐢𝐟𝐢𝐜𝐢𝐚𝐥𝐞\, 𝐩
 𝐢𝐚𝐭𝐭𝐚𝐟𝐨𝐫𝐦𝐞 𝐜𝐥𝐢𝐦𝐚𝐭𝐭𝐢
 𝐯𝐢𝐬𝐭𝐢𝐜𝐡𝐞 𝐮𝐫𝐛𝐚𝐧𝐞\, 𝐦𝐚𝐧
 𝐢𝐟𝐞𝐬𝐭𝐚𝐳𝐢𝐨𝐧𝐢 𝐜𝐨𝐧𝐭𝐫𝐨 𝐢
  𝐂𝐩𝐑 𝐢𝐧 𝐫𝐞𝐠𝐢𝐨𝐧𝐞.\n\n𝐓𝐮𝐭𝐭
 𝐞 𝐪𝐮𝐞𝐬𝐭𝐞 𝐢𝐧𝐢𝐳𝐢𝐚𝐭𝐢𝐯𝐞 
 𝐚𝐧𝐝𝐫𝐚𝐧𝐧𝐨 𝐚𝐯𝐚𝐧𝐭𝐢\, 𝐜𝐨𝐧 
 𝐬𝐨𝐫𝐫𝐢𝐬𝐨 𝐞 𝐭𝐚𝐧𝐭𝐢𝐬𝐬𝐢𝐦𝐚
  𝐞𝐧𝐞𝐫𝐠𝐢𝐚\, 𝐞’ 𝐮𝐧 𝐢𝐦𝐩𝐞𝐠𝐧
 𝐨 𝐞𝐝 𝐮𝐧𝐚 𝐩𝐫𝐨𝐦𝐞𝐬𝐬𝐚.\n\nNoi ci dob
 biamo indignare qua come altrove. È il momento per raccogliere solidariet
 à\, complicità\, amicizia.\n\nE la tanta indignazione\, che invitiamo ad
  esprimersi con foto comunicati video con #𝐭𝐨𝐫𝐧𝐢𝐀𝐌
 𝐎𝐚𝐁𝐨𝐥𝐨𝐠𝐧𝐚 e partecipando alla 𝐜𝐨𝐧𝐟
 𝐞𝐫𝐞𝐧𝐳𝐚 𝐬𝐭𝐚𝐦𝐩𝐚 𝐝𝐢 𝐝𝐨𝐦
 𝐚𝐧𝐢\, mercoledì 28 febbraio 2024 𝐚𝐥𝐥𝐞 𝟏𝟐.𝟑
 𝟎 𝐧𝐞𝐥 𝐂𝐨𝐫𝐭𝐢𝐥𝐞 𝐝𝐞𝐥 𝐏𝐨𝐳
 𝐳𝐨 𝐝𝐢 𝐏𝐚𝐥𝐚𝐳𝐳𝐨 𝐝’𝐚𝐜𝐜𝐮𝐫
 𝐬𝐢𝐨.\n\n𝐅𝐚𝐜𝐜𝐢𝐚𝐦𝐨𝐥𝐢 𝐭𝐨𝐫𝐧
 𝐚𝐫𝐞.\n\n𝐒𝐩𝐫𝐢𝐠𝐢𝐨𝐧𝐢𝐚𝐦𝐨 𝐥𝐚
  𝐩𝐫𝐢𝐦𝐚𝐯𝐞𝐫𝐚
ATTACH;FMTTYPE=image/jpeg:https://municipiozero.it/wp-content/uploads/2024
 /02/429982198_795263715961232_6579197306138053000_n.jpg
CATEGORIES:Action
END:VEVENT
BEGIN:VTIMEZONE
TZID:Europe/Rome
X-LIC-LOCATION:Europe/Rome
BEGIN:STANDARD
DTSTART:20231029T020000
TZOFFSETFROM:+0200
TZOFFSETTO:+0100
TZNAME:CET
END:STANDARD
END:VTIMEZONE
END:VCALENDAR