BEGIN:VCALENDAR
VERSION:2.0
PRODID:-//wp-events-plugin.com//6.6.3//EN
TZID:Europe/Rome
X-WR-TIMEZONE:Europe/Rome
BEGIN:VEVENT
UID:252@municipiozero.it
DTSTART;TZID=Europe/Rome:20250215T143000
DTEND;TZID=Europe/Rome:20250215T173000
DTSTAMP:20250206T152149Z
URL:https://municipiozero.it/events/una-soluzione-per-il-kurdistan-liberta
 -per-ocalan/
SUMMARY:Una soluzione per il Kurdistan -  Libertà per Ocalan
DESCRIPTION:Sabato 15 febbraio a Milano\, manifestazione nazionale. Concent
 ramento ore 14.30 a Largo Cairoli.
ATTACH;FMTTYPE=image/jpeg:https://municipiozero.it/wp-content/uploads/2025
 /02/photo_2025-02-06_16-20-00.jpg
CATEGORIES:Action
LOCATION:https://www.bing.com/maps?osid=b14a3c84-dae4-412d-9b4c-bccc15d91f6
 8&cp=45.477883~8.672738&lvl=9.415013&pi=0&imgid=c9f1e9b2-0ab4-41c0-bb5f-3a
 eecdf9a2e6&v=2&sV=2&form=S00027
END:VEVENT
BEGIN:VTIMEZONE
TZID:Europe/Rome
X-LIC-LOCATION:Europe/Rome
BEGIN:STANDARD
DTSTART:20241027T020000
TZOFFSETFROM:+0200
TZOFFSETTO:+0100
TZNAME:CET
END:STANDARD
END:VTIMEZONE
END:VCALENDAR